BEGIN:VCALENDAR
VERSION:2.0
PRODID:-//Asociación Mexicana de Estudios Internacionales - ECPv6.6.1//NONSGML v1.0//EN
CALSCALE:GREGORIAN
METHOD:PUBLISH
X-ORIGINAL-URL:https://amei.mx
X-WR-CALDESC:Eventos para Asociación Mexicana de Estudios Internacionales
REFRESH-INTERVAL;VALUE=DURATION:PT1H
X-Robots-Tag:noindex
X-PUBLISHED-TTL:PT1H
BEGIN:VTIMEZONE
TZID:America/Chicago
BEGIN:DAYLIGHT
TZOFFSETFROM:-0600
TZOFFSETTO:-0500
TZNAME:CDT
DTSTART:20260308T080000
END:DAYLIGHT
BEGIN:STANDARD
TZOFFSETFROM:-0500
TZOFFSETTO:-0600
TZNAME:CST
DTSTART:20261101T070000
END:STANDARD
END:VTIMEZONE
BEGIN:VEVENT
DTSTART;TZID=America/Chicago:20260129T110000
DTEND;TZID=America/Chicago:20260129T130000
DTSTAMP:20260421T140242
CREATED:20260122T005547Z
LAST-MODIFIED:20260122T005752Z
UID:18978-1769684400-1769691600@amei.mx
SUMMARY:Historia ¿Cuándo? Debatiendo sobre el paradigma westfaliano
DESCRIPTION:Este conversatorio tiene la misión de discutir y debatir sobre el papel de la Historia en Relaciones Internacionales y\, en particular\, sobre el paradigma westfaliano. \nEvento: 4to. Conversatorio sobre la Historia de Relaciones Internacionales\nTítulo: “Historia: ¿cuándo?\, debatiendo sobre el paradigma westfaliano”\nFecha y horario: jueves\, 29 de enero 2026 de 11 a 13 h \nPonentes: \n👨‍💼 Misael Nava Ramos\, UAM-X \n👨‍💼 Goualo Lazare Flan\, U. Colima \n👨‍💼 Juan Carlos Castillo Quiñones\, CEAA\, Colegio de México \n👩‍💼 Salimah Mónica Cossens González\, FCPYS-UNAM \nModeradora: \n👩‍💼 Gina León Cabrera\, CRIM-UNAM \n\n \n  \n  \n  \nRegistro previo \nhttps://us06web.zoom.us/meeting/register/yA49UMWZSGipqBHJAvUbkw
URL:https://amei.mx/calendario/historia-cuando/
LOCATION:Evento Virtual\, Mexico
CATEGORIES:Conversatorio
ATTACH;FMTTYPE=image/png:https://amei.mx/wp-content/uploads/2026/01/Historia-¿Cuando-1.png
ORGANIZER;CN="AMEI":MAILTO:informacion@amei.mx
END:VEVENT
END:VCALENDAR